BEGIN:VCALENDAR
VERSION:2.0
PRODID:-//wp-events-plugin.com//7.2.3.1//EN
BEGIN:VEVENT
UID:27@nova-star.de
DTSTART;TZID=Europe/Berlin:20240523T100000
DTEND;TZID=Europe/Berlin:20240523T110000
DTSTAMP:20240507T101417Z
URL:https://nova-star.de/events/zunehmende-bedeutung-von-security-loesunge
 n-im-zeichen-von-ki/
SUMMARY:Zunehmende Bedeutung von Security-Lösungen im Zeichen von KI
DESCRIPTION:Anmeldung:\nhttps://us02web.zoom.us/webinar/register/6017150713
 162/WN_rEmewLWJRGOOrzurMOwy-w\n\nDie Bedeutung von Sicherheitsdiensten fü
 r Managed Service Providers (MSPs) nimmt kontinuierlich zu. Im Laufe der G
 eschichte haben technologische Durchbrüche wie der Buchdruck\, das Telefo
 n\, das Radio\, das Fernsehen\, das Internet und das Smartphone das Leben 
 von Generationen tiefgreifend umgestaltet.\n\nHeute kündigt sich mit der 
 künstlichen Intelligenz (KI) die nächste bahnbrechende Entwicklung an\, 
 die das Potenzial hat\, unseren Alltag und die Geschäftswelt gleichermaß
 en zu revolutionieren.\n\nIn der privaten Nutzung dominieren derzeit KI-ge
 nerierte Inhalte wie Bilder\, Videos oder Texte die Szene\, doch im gesch
 äftlichen Kontext wird die Auswirkung von KI weitreichender sein – und 
 nicht immer ausschließlich positiv.\n\nEin besonderes Augenmerk liegt auf
  den Risiken\, die mit KI-assistierten Cyberangriffen verbunden sind. Bisl
 ang waren die meisten Malware- und Phishing-Angriffe mit genügend Aufmerk
 samkeit und den richtigen Werkzeugen identifizierbar. Doch KI eröffnet Cy
 berkriminellen völlig neue Dimensionen der Bedrohung.\n\nMit der Fähigke
 it\, vollautomatisierte\, dennoch hochgradig personalisierte Angriffe durc
 hzuführen\, stellt KI eine ernsthafte Herausforderung für Anbieter von S
 icherheitslösungen dar. Die Komplexität und Raffinesse dieser Angriffe e
 rfordern eine fortgeschrittene und ständig weiterentwickelte Sicherheitsi
 nfrastruktur.\n\nFür MSPs wird es daher immer wichtiger\, in fortschrittl
 iche Sicherheitsdienstleistungen zu investieren\, um die wachsenden Bedroh
 ungen durch KI-gestützte Angriffe effektiv abzuwehren und die Sicherheit 
 ihrer Kunden zu gewährleisten.\n\nIn diesem Webinar wollen wir Bedrohunge
 n zeigen und Lösungen von Hornetsecurity vorstellen\, die heute und in Zu
 kunft helfen sollen\, mit diesen Bedrohungen umzugehen.\n\nAnmeldung: \nht
 tps://us02web.zoom.us/webinar/register/6017150713162/WN_rEmewLWJRGOOrzurMO
 wy-w
ATTACH;FMTTYPE=image/jpeg:https://nova-star.de/wp-content/uploads/2024/05/
 NovaStar_Landscape_70.png
END:VEVENT
BEGIN:VTIMEZONE
TZID:Europe/Berlin
X-LIC-LOCATION:Europe/Berlin
BEGIN:DAYLIGHT
DTSTART:20240331T030000
TZOFFSETFROM:+0100
TZOFFSETTO:+0200
TZNAME:CEST
END:DAYLIGHT
END:VTIMEZONE
END:VCALENDAR