BEGIN:VCALENDAR
VERSION:2.0
PRODID:-//wp-events-plugin.com//7.2.3.1//EN
BEGIN:VEVENT
UID:34@nova-star.de
DTSTART;TZID=Europe/Berlin:20250226T100000
DTEND;TZID=Europe/Berlin:20250226T104500
DTSTAMP:20250214T085259Z
URL:https://nova-star.de/events/webinar-skalierbares-msp-wachstum-mehr-kun
 den-weniger-aufwand/
SUMMARY:Webinar: Skalierbares MSP-Wachstum – Mehr Kunden\, weniger Aufwan
 d
DESCRIPTION:Anmeldung:\n\nhttps://us02web.zoom.us/webinar/register/21173934
 95708/WN_4RkOTScaTQCFjuwJKV743g\n\n&nbsp\;\n\nDie IT-Branche entwickelt si
 ch rasant\, und als Managed Service Provider (MSP) stehen Sie vor der Hera
 usforderung\, Ihr Business effizient zu skalieren.\n\nMehr Kunden bedeuten
  nicht zwangsläufig mehr Mitarbeiter – mit den richtigen Strategien und
  Tools können Sie Ihr Wachstum nachhaltig gestalten\, ohne an Effizienz z
 u verlieren.\n\nIn unserem exklusiven Webinar zeigen wir Ihnen\, wie Sie I
 hr MSP-Geschäft optimieren und skalieren können.\n\nSie erfahren:\n\n- W
 arum Skalierung der Schlüssel zu nachhaltigem MSP-Erfolg ist\n\n- Wie Sie
  Ihre Serviceprozesse automatisieren und optimieren\n\n- Welche Tools Ihne
 n helfen\, mehr Kunden mit weniger Aufwand zu betreuen\n\n&nbsp\;\n\nEin b
 esonderes Highlight ist die Total Protection Suite von Hornetsecurity. Erf
 ahren Sie\, wie diese umfassende Security-Lösung Sie dabei unterstützt\,
  Ihre Kunden zuverlässig vor Cyberbedrohungen zu schützen – mit maxima
 ler Effizienz und minimalem Verwaltungsaufwand.\n\nNutzen Sie die Chance\,
  wertvolle Insights zu erhalten und Ihr MSP-Business auf das nächste Leve
 l zu heben!\n\n&nbsp\;\n\nAnmeldung:\n\nhttps://us02web.zoom.us/webinar/re
 gister/2117393495708/WN_4RkOTScaTQCFjuwJKV743g\n\n&nbsp\;
ATTACH;FMTTYPE=image/jpeg:https://nova-star.de/wp-content/uploads/2025/02/
 NovaStar_Landscape_276.png
CATEGORIES:Webinar
END:VEVENT
BEGIN:VTIMEZONE
TZID:Europe/Berlin
X-LIC-LOCATION:Europe/Berlin
BEGIN:STANDARD
DTSTART:20241027T020000
TZOFFSETFROM:+0200
TZOFFSETTO:+0100
TZNAME:CET
END:STANDARD
END:VTIMEZONE
END:VCALENDAR