BEGIN:VCALENDAR
VERSION:2.0
PRODID:-//wp-events-plugin.com//7.2.3.1//EN
BEGIN:VEVENT
UID:31@nova-star.de
DTSTART;TZID=Europe/Berlin:20240917T100000
DTEND;TZID=Europe/Berlin:20240917T120000
DTSTAMP:20240814T084929Z
URL:https://nova-star.de/events/webinar-nis2-deep-dive/
SUMMARY:Webinar: NIS2 Deep Dive
DESCRIPTION:NIS2 Deep Dive\n\nRechtsanwalt klärt auf: „Stand der Technik
 “ rechtskonform umsetzen\n\n&nbsp\;\n\nDie digitale Welt wächst rasant\
 , und mit ihr auch die Bedrohungen durch Cyberangriffe. Schon 2016 erkannt
 e die EU die Dringlichkeit und führte die NIS-Richtlinie ein\, um die Net
 z- und Informationssicherheit zu stärken.\n2022 wurde die überarbeitete 
 NIS2-Richtlinie verabschiedet. Das nationale Umsetzungsgesetz\, das erweit
 erte Pflichten für Unternehmen und deren Management mit sich bringt\, ste
 ht vor der Tür.\n\nDoch was bedeutet das konkret für Unternehmen? \n\nD
 as NIS2-Umsetzungs- und Cybersicherheitsstärkungsgesetz\, kurz NIS2UmsuCG
 \, ist rechtlich anspruchsvoll und der Gesetzgebungsprozess hat mit divers
 en Entwurfsfassungen für viel Diskussion gesorgt. Entstanden sind dabei e
 inige Missverständnisse\, mit denen Rechtsanwalt Karsten U. Bartels LL.M.
  aufräumt und konkrete Hinweise zur rechtlichen Umsetzung gibt.\n\n&nbsp\
 ;\n\nZusätzlich zeigen wir\, wie mit Hornetsecuritys 365 Total Protection
  Compliance &amp\; Awareness die komplexen Anforderungen der NIS2-Richtlin
 ie erfüllt und gleichzeitig Geschäftsprozesse optimiert werden können.\
 n\n&nbsp\;\n\nIm Webinar beleuchten wir folgende Schwerpunkte:\n\n&nbsp\;\
 n\n 	Hinweise zur Anwendbarkeit des Gesetzes\n 	Fragen zur persönlichen H
 aftung der Geschäftsleitung und zu Risikomanagementmaßnahmen\n 	Die gese
 tzliche Rolle des "Stands der Technik" und wie damit rechtlich korrekt im 
 Unternehmen sowie im Verhältnis zu Kunden und Dienstleistern umgegangen w
 erden sollte\n 	E-Mail-Security\, Compliance-Management\, Backup und Secur
 ity Awareness – Rundum geschützt mit der Next-Gen Cloud-Lösung für Mi
 crosoft 365 von Hornetsecurity\n\nAnmeldung:\n\nGoTo Webinar - NIS2 Deep D
 ive - Hornetsecurity – Cloud Security Services for Businesses\n\n&nbsp\;
ATTACH;FMTTYPE=image/jpeg:https://nova-star.de/wp-content/uploads/2024/08/
 NIS2_Webinar-800x1000-1.jpg
END:VEVENT
BEGIN:VTIMEZONE
TZID:Europe/Berlin
X-LIC-LOCATION:Europe/Berlin
BEGIN:DAYLIGHT
DTSTART:20240331T030000
TZOFFSETFROM:+0100
TZOFFSETTO:+0200
TZNAME:CEST
END:DAYLIGHT
END:VTIMEZONE
END:VCALENDAR