BEGIN:VCALENDAR
VERSION:2.0
PRODID:-//wp-events-plugin.com//7.2.3.1//EN
BEGIN:VEVENT
UID:39@nova-star.de
DTSTART;TZID=Europe/Berlin:20250918T140000
DTEND;TZID=Europe/Berlin:20250918T150000
DTSTAMP:20250828T131220Z
URL:https://nova-star.de/events/webinar-mehr-sicherheit-mehr-chancen-die-v
 alue-proposition-fuer-msps-mit-hornetsecurity/
SUMMARY:Webinar: Mehr Sicherheit\, mehr Chancen – Die Value Proposition f
 ür MSPs mit Hornetsecurity
DESCRIPTION:Cyberangriffe werden immer raffinierter – und Unternehmen jed
 er Größe erwarten heute von ihren IT-Dienstleistern nicht nur zuverläss
 igen Support\, sondern vor allem umfassenden Schutz. Für Managed Service 
 Provider (MSPs) eröffnet sich hier eine enorme Chance: Mit modernen Secur
 itylösungen lassen sich nicht nur Kundenbeziehungen vertiefen\, sondern a
 uch nachhaltig neue Umsatzpotenziale erschließen.\nIn diesem Webinar zeig
 en wir\, wie Sie Ihr Portfolio mit den ganzheitlichen Lösungen von Hornet
 security gezielt erweitern können – von E-Mail-Security über Backup &a
 mp\; Recovery bis hin zu Compliance- und Awareness-Services. Wir gehen dar
 auf ein\, welche Value Proposition Sie als MSP Ihren Kunden bieten können
 :\n\n\n 	Mehr Schutz und Verlässlichkeit für die IT-Infrastruktur Ihrer 
 Kunden\n 	Planbare\, wiederkehrende Umsätze für Ihr eigenes Geschäft\n 
 	Einfaches Management dank cloudbasierter Plattform\n 	Stärkere Differenz
 ierung vom Wettbewerb\n\nErfahren Sie\, wie Sie mit den Lösungen von Horn
 etsecurity nicht nur Bedrohungen abwehren\, sondern echte Mehrwerte schaff
 en – für Ihre Kunden und für Ihr eigenes Wachstum als MSP.\n&nbsp\;\n\
 nAn wen richtet sich dieses Webinar: Sie sind ein Systemhaus und überlege
 n sich\, ob Sie MSP Services anbieten möchten\, ob Cybersecurity für Sie
  interessant ist oder ob Hornetsecurity ein interessanter Hersteller für 
 Sie sein kann.\n\nAnmeldung:\n\nhttps://us02web.zoom.us/webinar/register/W
 N_8jDwiJPORMSTAD1Bpkqqag
ATTACH;FMTTYPE=image/jpeg:https://nova-star.de/wp-content/uploads/2025/08/
 ChatGPT-Image-28.-Aug.-2025-15_06_36.png
END:VEVENT
BEGIN:VTIMEZONE
TZID:Europe/Berlin
X-LIC-LOCATION:Europe/Berlin
BEGIN:DAYLIGHT
DTSTART:20250330T030000
TZOFFSETFROM:+0100
TZOFFSETTO:+0200
TZNAME:CEST
END:DAYLIGHT
END:VTIMEZONE
END:VCALENDAR