BEGIN:VCALENDAR
VERSION:2.0
PRODID:-//wp-events-plugin.com//7.2.3.1//EN
BEGIN:VEVENT
UID:36@nova-star.de
DTSTART;TZID=Europe/Berlin:20250724T100000
DTEND;TZID=Europe/Berlin:20250724T110000
DTSTAMP:20250630T065708Z
URL:https://nova-star.de/events/webinar-it-sicherheit-fuer-den-kleinen-mit
 telstand/
SUMMARY:Webinar: IT Sicherheit für den kleinen Mittelstand
DESCRIPTION:Cyberkriminelle nehmen zunehmend kleine Unternehmen ins Visier.
  Gleichzeitig wachsen die gesetzlichen Anforderungen an die IT-Sicherheit.
  Höchste Zeit zu handeln\, um Bußgelder\, Ransomware-Forderungen und Dat
 enverluste zu vermeiden.\n\nIm Webinar „IT-Sicherheit für den kleinen M
 ittelstand" am 24.07.2025 um 10:00 Uhr werden Tipps gegeben und Lösungen 
 geboten\, die Sie vor Cyberkriminalität schützen. Rechtsanwalt und Spezi
 alist für IT-Recht und IT-Sicherheitsrecht\, Karsten U. Bartels LLM.\, gi
 bt zusätzlich einen Überblick über die aktuelle rechtliche Situation.\n
 \nDas erwartet Sie im Webinar\n\nAnsätze\, wie Unternehmen praktikabel mi
 t technischen und rechtlichen Anforderungen umgehen können:\n\n• Vorsch
 läge zur Priorisierung rechtlicher Aufgaben\n• Praxistipps zum Umgang m
 it allgemeinen Kundenanforderungen\n• Kurzeinführung zu wesentlichen Ge
 setzen wie DSGVO\, NIS-2-Richtlinie\, Cyber Resilience Act und KI-Verordnu
 ng\n\n&nbsp\;\n\n[video width="1920" height="1080" mp4="https://nova-star.
 de/wp-content/uploads/2025/06/HSE_Webinar.mp4"][/video]\n\n&nbsp\;\n\nAnme
 ldung unter:\n\nhttps://www.hornetsecurity.com/de/webinare/it-sicherheit-k
 leinen-mittelstand
ATTACH;FMTTYPE=image/jpeg:https://nova-star.de/wp-content/uploads/2025/06/
 Webinar-IT-Sicherheit-fuer-den-kleinen-Mittelstand_Webinar_Social-Media-Im
 age-LinkedIn-2.png
END:VEVENT
BEGIN:VTIMEZONE
TZID:Europe/Berlin
X-LIC-LOCATION:Europe/Berlin
BEGIN:DAYLIGHT
DTSTART:20250330T030000
TZOFFSETFROM:+0100
TZOFFSETTO:+0200
TZNAME:CEST
END:DAYLIGHT
END:VTIMEZONE
END:VCALENDAR