BEGIN:VCALENDAR
VERSION:2.0
PRODID:-//wp-events-plugin.com//7.2.3.1//EN
BEGIN:VEVENT
UID:33@nova-star.de
DTSTART;TZID=Europe/Berlin:20241121T100000
DTEND;TZID=Europe/Berlin:20241121T110000
DTSTAMP:20241028T104914Z
URL:https://nova-star.de/events/webinar-hornetsecurity-multi-tenant-manage
 r/
SUMMARY:Webinar Hornetsecurity Multi-Tenant Manager
DESCRIPTION:In diesem Webinar geben wir Ihnen einen Überblick zum neuen Ho
 rnetsecurity Multi-Tenant Manager. MSPs können damit die die Konfiguratio
 n\, die Verwaltung und Richtlinieneinhaltung von Microsoft 365-Tenants in 
 einer übersichtlichen Konsole bearbeiten.\n\n&nbsp\;\n\nAnmeldung:\n\nhtt
 ps://us02web.zoom.us/meeting/register/tZIvd-GsqTMtH9V0wj5lyAk58T0HxpSSAb-b
ATTACH;FMTTYPE=image/jpeg:https://nova-star.de/wp-content/uploads/2024/10/
 DALL·E-2024-10-01-10.46.04-A-mans-head-with-many-thoughts-represented-by-
 various-words-floating-around-his-head.-The-man-has-a-neutral-facial-expre
 ssion-and-his-head-is-shown-.webp
END:VEVENT
BEGIN:VTIMEZONE
TZID:Europe/Berlin
X-LIC-LOCATION:Europe/Berlin
BEGIN:STANDARD
DTSTART:20241027T020000
TZOFFSETFROM:+0200
TZOFFSETTO:+0100
TZNAME:CET
END:STANDARD
END:VTIMEZONE
END:VCALENDAR