BEGIN:VCALENDAR
VERSION:2.0
PRODID:-//wp-events-plugin.com//7.2.3.1//EN
BEGIN:VEVENT
UID:38@nova-star.de
DTSTART;TZID=Europe/Berlin:20250812T140000
DTEND;TZID=Europe/Berlin:20250812T150000
DTSTAMP:20250728T085341Z
URL:https://nova-star.de/events/webinar-ai-unterstuetzung-in-der-cybersecu
 rity/
SUMMARY:Webinar: AI Unterstützung in der Cybersecurity
DESCRIPTION:[video width="1920" height="1080" mp4="https://nova-star.de/wp-
 content/uploads/2025/06/30079242.mp4" autoplay="true"][/video]\n\n&nbsp\;\
 n\nCyberkriminelle nutzen immer mehr und immer gezielter die Möglichkeite
 n von künstlicher Intelligenz für ihre Attacken.\n\nFür viele Anwender 
 ist es kaum mehr möglich zu erkennen\, ob sie mit einer realen Person ode
 r einer KI kommunizieren\, einen realen Webshop oder einen mit KI erstellt
 en Fake-Shop besuchen und ob die Links in der Email zu den richtigen Webse
 iten führen.\n\nAuch im Cybersecurity-Bereich wird KI immer stärker eing
 esetzt\, um den unzähligen Angriffen einen Widerstand bieten zu können.\
 n\n&nbsp\;\n\nIn diesem Webinar zeigen wir\, wie Hornetsecurity KI in sein
 e Lösungen integriert\, um Services zu verbessern und zusätzliche Servic
 es anbieten zu können.\n\nAnmeldung:\n\nhttps://us02web.zoom.us/webinar/r
 egister/WN_s5bKmyaAQfCChtH5VRwOsQ\n\n&nbsp\;
ATTACH;FMTTYPE=image/jpeg:https://nova-star.de/wp-content/uploads/2025/06/
 ChatGPT-Image-25.-Juni-2025-11_15_52.png
END:VEVENT
BEGIN:VTIMEZONE
TZID:Europe/Berlin
X-LIC-LOCATION:Europe/Berlin
BEGIN:DAYLIGHT
DTSTART:20250330T030000
TZOFFSETFROM:+0100
TZOFFSETTO:+0200
TZNAME:CEST
END:DAYLIGHT
END:VTIMEZONE
END:VCALENDAR