BEGIN:VCALENDAR
VERSION:2.0
PRODID:-//wp-events-plugin.com//7.2.3.1//EN
BEGIN:VEVENT
UID:9@nova-star.de
DTSTART;TZID=Europe/Berlin:20230615T100000
DTEND;TZID=Europe/Berlin:20230615T110000
DTSTAMP:20230612T104855Z
URL:https://nova-star.de/events/vm-backup-fuer-msps/
SUMMARY:VM Backup für MSPs
DESCRIPTION:Anmeldung unter: https://us02web.zoom.us/webinar/register/36167
 77689594/WN_FWuQv4guTXWo0KERYZJNcQ\n\n&nbsp\;\nVM Backup für MSPs\nIn die
 sem Webinar zeigen wir\, welche Möglichkeiten Hornetsecurity VM Backup 9 
 für MSPs bietet.\n\nDas Webinar richtet sich sowohl an bestehende Partner
  als auch an neue Partner\, die VM Backup 9 zur Sicherung der VMs ihrer Ku
 nden nutzen möchten.\n\nIn der Theorie zeigen wir:\n- Funktionen und Feat
 ures\n- Abrechnungsmodalitäten\n- Vorteile für MSPs\n\nIm praktischen Te
 il sehen Sie dann das Produkt in Aktion und wie Sie für einen neuen Kunde
 n das Produkt einrichten.\n\nLink zur Anmeldung:\n\nhttps://us02web.zoom.u
 s/webinar/register/3616777689594/WN_FWuQv4guTXWo0KERYZJNcQ
ATTACH;FMTTYPE=image/jpeg:https://nova-star.de/wp-content/uploads/2023/01/
 hornet_webinar.png
CATEGORIES:Webinar
END:VEVENT
BEGIN:VTIMEZONE
TZID:Europe/Berlin
X-LIC-LOCATION:Europe/Berlin
BEGIN:DAYLIGHT
DTSTART:20230326T030000
TZOFFSETFROM:+0100
TZOFFSETTO:+0200
TZNAME:CEST
END:DAYLIGHT
END:VTIMEZONE
END:VCALENDAR