BEGIN:VCALENDAR
VERSION:2.0
PRODID:-//wp-events-plugin.com//7.2.3.1//EN
BEGIN:VEVENT
UID:7@nova-star.de
DTSTART;TZID=Europe/Berlin:20230329T100000
DTEND;TZID=Europe/Berlin:20230329T110000
DTSTAMP:20230302T145942Z
URL:https://nova-star.de/events/vm-backup-9-webinar/
SUMMARY:VM Backup 9 Webinar
DESCRIPTION:Anmeldung unter: https://us02web.zoom.us/webinar/register/36167
 77689594/WN_A33_F9zeTUeD9P7at0RX5g\n\n&nbsp\;\nVM Backup 9 - Lernen Sie di
 e Neuerungen kennen\nIn diesem Webinar zeigen wir Ihnen sowohl theoretisch
  als auch in einer Live Demo die neuen Funktionen von VM Backup 9. Mit die
 ser Version bietet der Hersteller noch mehr Schutz für die Daten Ihrer Ku
 nden.\n\n&nbsp\;\n\nDaneben zeigen wir Ihnen auch\, wie Sie einfach\, schn
 ell und leicht Lizenzen über das Controlpanel von Hornetsecurity bestelle
 n können.\n\nWir freuen uns auf Ihre Teilnahme.\n\n&nbsp\;\n\nLink zur An
 meldung:\n\nhttps://us02web.zoom.us/webinar/register/3616777689594/WN_A33_
 F9zeTUeD9P7at0RX5g\n\n&nbsp\;
ATTACH;FMTTYPE=image/jpeg:https://nova-star.de/wp-content/uploads/2023/01/
 hornet_webinar.png
CATEGORIES:Webinar
END:VEVENT
BEGIN:VTIMEZONE
TZID:Europe/Berlin
X-LIC-LOCATION:Europe/Berlin
BEGIN:DAYLIGHT
DTSTART:20230326T030000
TZOFFSETFROM:+0100
TZOFFSETTO:+0200
TZNAME:CEST
END:DAYLIGHT
END:VTIMEZONE
END:VCALENDAR