BEGIN:VCALENDAR
VERSION:2.0
PRODID:-//wp-events-plugin.com//7.2.3.1//EN
BEGIN:VEVENT
UID:1@nova-star.de
DTSTART;TZID=Europe/Berlin:20230118T110000
DTEND;TZID=Europe/Berlin:20230118T113000
DTSTAMP:20230112T104900Z
URL:https://nova-star.de/events/techsmith-snagit-partner-webinar/
SUMMARY:Techsmith Snagit Partner Webinar
DESCRIPTION:\n\nAnmeldung unter:  https://techsmith.zoom.us/webinar/regist
 er/8816716133853/WN_qjCn1QQFSuCFWP_eIoBUOQ\nAm 30 minütigen Partner-Webin
 ar teilnehmen und kostenlose NFR-Lizenz erhalten.\n \n\n \n\nTechsmith Sna
 git hilft Ihnen\, Informationen einfach\, schnell und strukturiert weiterz
 ugeben und so Prozesse und Arbeitsschritte zu beschleunigen. Ob für Dokum
 entationen\, Präsentationen oder im Helpdesk\, die Weitergabe von Informa
 tionen mit Hilfe wird immer wichtiger und Techsmith Snagit ist die passend
 e Lösung.\n\n \n\n \n\nIn diesem Webinar für Partner erfahren Sie:\n\n \
 n\n 	Was ist Snagit und wie arbeitet es\n \n 	Wie können Sie Snagit in de
 r täglichen Arbeit einsetzen\n \n 	Wie wird Snagit lizenziert\n \n 	Wie k
 önnen Sie Interesse für Snagit bei Ihren Kunden erzeugen\n\n \n\n \nWann
 ? 18. Januar um 11:00\n&nbsp\;\n\n \n\n\n\nDas Webinar wird direkt vom Her
 steller durchgeführt\, Ihre Ansprechpartner sind:\n\n \n\n\n\n\nAnton Bol
 len\n\n Customer Success Manager\n\n\n\n\n \n\n\n\nHajer Ben Jilani\n\n Bu
 siness Development Manager\n\n\n\n\n \n\n\n\nYumiko Kawasoe\n\n Business D
 evelopment Manager\n\n\n\n\n\n \n\n \n\nTechsmith Snagit wird bereits heut
 e bei vielen Unternehmen als Standardsoftware auf jedem Desktopsystem inst
 alliert. Wenn auch Sie die Möglichkeiten von Snagit kennenlernen möchten
 \, ist dieses Webinar der perfekte Einstieg. Anmeldung unter folgenden Lin
 k:\n\n \n\nhttps://techsmith.zoom.us/webinar/register/8816716133853/WN_qjC
 n1QQFSuCFWP_eIoBUOQ\n\n
ATTACH;FMTTYPE=image/jpeg:https://nova-star.de/wp-content/uploads/2023/01/
 tswebinar.jpg
CATEGORIES:Webinar
END:VEVENT
BEGIN:VTIMEZONE
TZID:Europe/Berlin
X-LIC-LOCATION:Europe/Berlin
BEGIN:STANDARD
DTSTART:20221030T020000
TZOFFSETFROM:+0200
TZOFFSETTO:+0100
TZNAME:CET
END:STANDARD
END:VTIMEZONE
END:VCALENDAR