BEGIN:VCALENDAR
VERSION:2.0
PRODID:-//wp-events-plugin.com//7.2.3.1//EN
BEGIN:VEVENT
UID:13@nova-star.de
DTSTART;TZID=Europe/Berlin:20230711T100000
DTEND;TZID=Europe/Berlin:20230711T103000
DTSTAMP:20230703T085353Z
URL:https://nova-star.de/events/techsmith-camtasia-partner-webinar/
SUMMARY:Techsmith Camtasia Partner Webinar
DESCRIPTION:\n&nbsp\;\nAnmeldung unter:  \nhttps://techsmith.zoom.us/webin
 ar/register/9816867314256/WN_19M-HQEzSgOgQT-5kaQagA\nCamtasia verkaufen: s
 o geht’s! TechSmith Partner Webinar.\n\n\n\n\n&nbsp\;\nImmer mehr Untern
 ehmen suchen benutzerfreundliche Lösungen\, um ihr Wissen in attraktive V
 ideos zu verwandeln. TechSmith Camtasia ist die perfekte Software dafür. 
 Einfach genug für Anfänger und dennoch leistungsstark genug für alle Ar
 ten von Videos.\n \nIm 30-minütigen Partner-Webinar am 11. Juli um 10Uhr
  erfahren Sie mehr über TechSmith-Produkte\, Lizenzierungsmodelle\, Anwen
 dungsfälle und bewährte Verkaufsstrategien für die Videosoftware. \nSic
 hern Sie sich Ihre Camtasia NFR Lizenz und registrieren Sie sich heute noc
 h.\n \n\n\n\n\n\nWann? 11. Juli um 10:00\n\nDas Webinar wird direkt vom H
 ersteller durchgeführt.\n\n\n\n\nhttps://techsmith.zoom.us/webinar/regist
 er/9816867314256/WN_19M-HQEzSgOgQT-5kaQagA\n
ATTACH;FMTTYPE=image/jpeg:https://nova-star.de/wp-content/uploads/2023/01/
 tswebinar.jpg
CATEGORIES:Webinar
END:VEVENT
BEGIN:VTIMEZONE
TZID:Europe/Berlin
X-LIC-LOCATION:Europe/Berlin
BEGIN:DAYLIGHT
DTSTART:20230326T030000
TZOFFSETFROM:+0100
TZOFFSETTO:+0200
TZNAME:CEST
END:DAYLIGHT
END:VTIMEZONE
END:VCALENDAR