BEGIN:VCALENDAR
VERSION:2.0
PRODID:-//wp-events-plugin.com//7.2.3.1//EN
BEGIN:VEVENT
UID:26@nova-star.de
DTSTART;TZID=Europe/Berlin:20240606T110000
DTEND;TZID=Europe/Berlin:20240606T120000
DTSTAMP:20240424T090710Z
URL:https://nova-star.de/events/sharpen-your-instinct-wie-sie-ihr-unterneh
 men-vor-ki-gestuetzten-angriffen-schuetzen/
SUMMARY:Sharpen your Instinct - Wie Sie Ihr Unternehmen vor KI-gestützten 
 Angriffen schützen
DESCRIPTION:Hornetsecurity Webinar:\nIn Zeiten von KI verschwimmen die Gren
 zen zwischen Fake und Realität immer mehr.\nIn unserem Webinar am 6. Juni
  2024 widmen wir uns dem Thema Phishing und besprechen\, welchen Einfluss 
 generative KI-Tools\, wie ChatGPT auf Phishing-Techniken haben und geben T
 ipps\, wie man gefälschte E-Mails entlarven kann.\n\nAnmeldung:\nhttps://
 www.hornetsecurity.com/de/webinar-vor-ki-gestuetzten-angriffen-schuetzen/
END:VEVENT
BEGIN:VTIMEZONE
TZID:Europe/Berlin
X-LIC-LOCATION:Europe/Berlin
BEGIN:DAYLIGHT
DTSTART:20240331T030000
TZOFFSETFROM:+0100
TZOFFSETTO:+0200
TZNAME:CEST
END:DAYLIGHT
END:VTIMEZONE
END:VCALENDAR