BEGIN:VCALENDAR
VERSION:2.0
PRODID:-//wp-events-plugin.com//7.2.3.1//EN
BEGIN:VEVENT
UID:23@nova-star.de
DTSTART;TZID=Europe/Berlin:20240319T100000
DTEND;TZID=Europe/Berlin:20240319T110000
DTSTAMP:20240311T091405Z
URL:https://nova-star.de/events/securityloesungen-fuer-msps-hornetsecurity
 -total-protection-compliance-awareness-2/
SUMMARY:Securitylösungen für MSPs: Hornetsecurity Total Protection Compli
 ance & Awareness
DESCRIPTION:Anmeldung unter: https://us02web.zoom.us/webinar/register/WN_pe
 doAB4pRfe8PpOHE_bR1Q\n\n\nE-Mail-Sicherheit ist ein kritischer Bereich\, i
 n dem Managed Service Providers (MSPs) wesentliche Dienstleistungen anbiet
 en können\, um Unternehmen vor einer Vielzahl von Bedrohungen zu schütze
 n. E-Mail-basierte Angriffe wie Phishing\, Spear-Phishing\, Ransomware und
  andere Malware sind weit verbreitet und können erheblichen Schaden anric
 hten.\n\nE-Mail-Filterung und -Gateway-Sicherheit: MSPs können E-Mail-Sic
 herheitsgateways oder -dienste implementieren\, die eingehende E-Mails sca
 nnen\, um bekannte Bedrohungen und Spam zu filtern\, bevor sie den Postein
 gang eines Benutzers erreichen. Diese Systeme nutzen oft fortschrittliche 
 Algorithmen und Datenbanken mit bekannten Bedrohungsindikatoren\, um schä
 dliche E-Mails zu identifizieren.\n\nAnti-Phishing-Schutz: MSPs können sp
 ezialisierte Lösungen anbieten\, die darauf ausgelegt sind\, Phishing-Ver
 suche zu erkennen und zu blockieren. Diese Technologien können verdächti
 ge URLs\, gefälschte Domains und andere Anzeichen von Phishing-Angriffen 
 identifizieren.\n\nAdvanced Threat Protection (ATP): ATP-Dienste bieten ei
 ne tiefere Analyse eingehender E-Mails\, indem sie Anhänge und Links in e
 iner sicheren Sandbox-Umgebung ausführen\, um versteckte Malware zu erken
 nen\, ohne das Netzwerk des Kunden zu gefährden.\n\nEndbenutzerschulung: 
 Da der menschliche Faktor oft das schwächste Glied in der Sicherheitskett
 e ist\, können MSPs Schulungsprogramme anbieten\, die Mitarbeiter darübe
 r aufklären\, wie sie verdächtige E-Mails erkennen und darauf reagieren 
 können.\n\nDatenschutz und Compliance: MSPs können dabei helfen\, E-Mail
 -Systeme so zu konfigurieren und zu verwalten\, dass sie den relevanten Da
 tenschutzbestimmungen und Compliance-Anforderungen entsprechen\, z.B. der 
 Datenschutz-Grundverordnung (DSGVO) in der EU.\n\nArchivierung und Backup:
  Um Datenverlust zu verhindern und Compliance-Anforderungen zu erfüllen\,
  können MSPs Dienste zur E-Mail-Archivierung und zum Backup anbieten.
ATTACH;FMTTYPE=image/jpeg:https://nova-star.de/wp-content/uploads/2024/02/
 Webinareinladung_20240229_NovaStar_Landscape_24.png
END:VEVENT
BEGIN:VTIMEZONE
TZID:Europe/Berlin
X-LIC-LOCATION:Europe/Berlin
BEGIN:STANDARD
DTSTART:20231029T020000
TZOFFSETFROM:+0200
TZOFFSETTO:+0100
TZNAME:CET
END:STANDARD
END:VTIMEZONE
END:VCALENDAR