BEGIN:VCALENDAR
VERSION:2.0
PRODID:-//wp-events-plugin.com//7.2.3.1//EN
BEGIN:VEVENT
UID:24@nova-star.de
DTSTART;TZID=Europe/Berlin:20240515T100000
DTEND;TZID=Europe/Berlin:20240515T110000
DTSTAMP:20240424T090637Z
URL:https://nova-star.de/events/security-awareness-service-produktvorstell
 ung/
SUMMARY:Security Awareness Service - Produktvorstellung
DESCRIPTION:Hornetsecurity Webinar:\nDer Security Awareness Service schärf
 t das Bewusstsein Ihrer Mitarbeiter für Cybersicherheitsrisiken und -bedr
 ohungen durch realistische Spear-Phishing-Simulationen und KI-gestützte E
 -Trainings. Vollständig automatisiert und einfach in der Anwendung. Erfah
 ren Sie mehr darüber in unserem Webinar.\n\nAnmeldung:\nhttps://www.horne
 tsecurity.com/de/webinar-sas-session3/
ATTACH;FMTTYPE=image/jpeg:https://nova-star.de/wp-content/uploads/2024/04/
 Security-Awareness-Service-Produktvorstellung-1080x1080-1.jpg
END:VEVENT
BEGIN:VTIMEZONE
TZID:Europe/Berlin
X-LIC-LOCATION:Europe/Berlin
BEGIN:DAYLIGHT
DTSTART:20240331T030000
TZOFFSETFROM:+0100
TZOFFSETTO:+0200
TZNAME:CEST
END:DAYLIGHT
END:VTIMEZONE
END:VCALENDAR