BEGIN:VCALENDAR
VERSION:2.0
PRODID:-//wp-events-plugin.com//7.2.3.1//EN
BEGIN:VEVENT
UID:22@nova-star.de
DTSTART;TZID=Europe/Berlin:20240314T100000
DTEND;TZID=Europe/Berlin:20240314T110000
DTSTAMP:20240301T093830Z
URL:https://nova-star.de/events/partnerstammtisch-altaro-hornetsecurity/
SUMMARY:Partnerstammtisch Altaro/Hornetsecurity
DESCRIPTION:Link zum Stammtisch:\nhttps://us02web.zoom.us/j/83134321512?pwd
 =blVwY1JNY2MwZVlHWExReXZFT2kxZz09\n\nIn unserem Partner Stammtisch möchte
 n wir Sie über aktuelle Entwicklungen informieren und Feedback von Ihnen 
 zu den Lösungen von Altaro und Hornetsecurity erhalten.\n\nWir freuen uns
  auf Ihre Teilnahme.
ATTACH;FMTTYPE=image/jpeg:https://nova-star.de/wp-content/uploads/2024/03/
 Default_Image_of_a_regulars_table_where_there_is_a_lot_of_laug_0.jpg
CATEGORIES:Stammtisch
END:VEVENT
BEGIN:VTIMEZONE
TZID:Europe/Berlin
X-LIC-LOCATION:Europe/Berlin
BEGIN:STANDARD
DTSTART:20231029T020000
TZOFFSETFROM:+0200
TZOFFSETTO:+0100
TZNAME:CET
END:STANDARD
END:VTIMEZONE
END:VCALENDAR