BEGIN:VCALENDAR
VERSION:2.0
PRODID:-//wp-events-plugin.com//7.2.3.1//EN
BEGIN:VEVENT
UID:28@nova-star.de
DTSTART;TZID=Europe/Berlin:20240613T140000
DTEND;TZID=Europe/Berlin:20240613T150000
DTSTAMP:20240527T113842Z
URL:https://nova-star.de/events/novastar-partner-stammtisch/
SUMMARY:NovaStar Partner Stammtisch
DESCRIPTION:Link zur Anmeldung:\nhttps://us02web.zoom.us/meeting/register/t
 ZEkc-mrqDgpHtcc4gVkh-phhy5Nb3PQ7pWN\n\n\nDiskutieren Sie mit uns zu den Th
 emen\, die Sie wirklich interessieren.\nSenden Sie uns vorab bereits Theme
 n\, die wir im Partner Stammtisch ansprechen sollen. Wir freuen uns auf Ih
 re rege Teilnahme.\n
ATTACH;FMTTYPE=image/jpeg:https://nova-star.de/wp-content/uploads/2024/05/
 NovaStar_Landscape_47.png
END:VEVENT
BEGIN:VTIMEZONE
TZID:Europe/Berlin
X-LIC-LOCATION:Europe/Berlin
BEGIN:DAYLIGHT
DTSTART:20240331T030000
TZOFFSETFROM:+0100
TZOFFSETTO:+0200
TZNAME:CEST
END:DAYLIGHT
END:VTIMEZONE
END:VCALENDAR