BEGIN:VCALENDAR
VERSION:2.0
PRODID:-//wp-events-plugin.com//7.2.3.1//EN
BEGIN:VEVENT
UID:40@nova-star.de
DTSTART;TZID=Europe/Berlin:20251120T100000
DTEND;TZID=Europe/Berlin:20251120T110000
DTSTAMP:20251031T081045Z
URL:https://nova-star.de/events/ki-fluch-oder-segen-fuer-die-it-security/
SUMMARY:KI – Fluch oder Segen für die IT-Security?
DESCRIPTION:Anmeldung:\nhttps://us02web.zoom.us/webinar/register/8017618966
 265/WN_Hws_SDzjRXmuJS3X2LlPjQ\n\nKI verändert die Cyberwelt – sind Sie 
 vorbereitet?\nTäuschend echte Phishing-Mails\, Deepfake-Anrufe und automa
 tisierte Hacker-Angriffe:Cyberkriminelle nutzen Künstliche Intelligenz\, 
 um ihre Attacken gezielter\, raffinierter und gefährlicher zu machen.\nDo
 ch dieselbe Technologie eröffnet neue Chancen:KI-gestützte Security-Lös
 ungen erkennen Bedrohungen in Echtzeit und bieten ein Schutzniveau\, das k
 lassische Systeme nicht mehr erreichen.\nKünstliche Intelligenz ist das M
 egathema unserer Zeit – und sie verändert die Welt der Cyberkriminalit
 ät rasanter\, als viele glauben.\nIm Webinar „KI – Fluch oder Segen f
 ür die IT-Security?“ erfahren Sie:\n\n\n 	Wie Cyberkriminelle KI bereit
 s heute für Angriffe einsetzen\n 	Welche realen Fälle und Szenarien uns 
 in den nächsten Jahren erwarten\n 	Wie moderne E-Mail- und Cloud-Security
  mit KI gegensteuert\n 	Und wie Sie als Fachhändler oder Systemhaus darau
 s neue Geschäftsmodelle entwickeln können\n\nIhre Speaker\nThomas R. Kö
 hlerCybersecurity-Experte\, Sachbuchautor und international gefragter Keyn
 ote-Speaker. Er erklärt praxisnah\, wie Angreifer KI nutzen – und was d
 as für Unternehmen und IT-Dienstleister bedeutet.\nTorben HochmayrDistrib
 ution Manager bei Hornetsecurity. Er zeigt\, wie der führende Security-An
 bieter KI-Technologien einsetzt\, um Unternehmen und Microsoft-365-Umgebun
 gen vor den neuesten Bedrohungen zu schützen.\nJetzt kostenlos anmelden:\
 nhttps://us02web.zoom.us/webinar/register/8017618966265/WN_Hws_SDzjRXmuJS3
 X2LlPjQ
ATTACH;FMTTYPE=image/jpeg:https://nova-star.de/wp-content/uploads/2025/10/
 ChatGPT-Image-31.-Okt.-2025-08_30_44.png
END:VEVENT
BEGIN:VTIMEZONE
TZID:Europe/Berlin
X-LIC-LOCATION:Europe/Berlin
BEGIN:STANDARD
DTSTART:20251026T020000
TZOFFSETFROM:+0200
TZOFFSETTO:+0100
TZNAME:CET
END:STANDARD
END:VTIMEZONE
END:VCALENDAR