BEGIN:VCALENDAR
VERSION:2.0
PRODID:-//wp-events-plugin.com//7.2.3.1//EN
BEGIN:VEVENT
UID:19@nova-star.de
DTSTART;TZID=Europe/Berlin:20230922T100000
DTEND;TZID=Europe/Berlin:20230922T110000
DTSTAMP:20230908T060634Z
URL:https://nova-star.de/events/hse_20230922/
SUMMARY:Mehr Umsatz mit Hornetsecurity Lösungen
DESCRIPTION:Bei Hornetsecurity können Sie in einer einzigen Oberfläche Ih
 re Kunden und die entsprechenden Lösungen überwachen und reduzieren so d
 eutlich den Verwaltungsaufwand.\n\nDaneben bietet Hornetsecurity ein hohes
  Upsell-Potential\, so dass Sie bei einzelnen Kunden mehrere Lösungen pla
 tzieren können.\n\nIn diesem Webinar möchten wir Ihnen zeigen\, wie Sie 
 Kunden mit verschiedenen Lösungen einrichten und verwalten können.\n\nht
 tps://us02web.zoom.us/webinar/register/WN_g5Cw_3mMSn2Xr96j4bYg9w
ATTACH;FMTTYPE=image/jpeg:https://nova-star.de/wp-content/uploads/2023/01/
 hornet_webinar.png
CATEGORIES:Webinar
END:VEVENT
BEGIN:VTIMEZONE
TZID:Europe/Berlin
X-LIC-LOCATION:Europe/Berlin
BEGIN:DAYLIGHT
DTSTART:20230326T030000
TZOFFSETFROM:+0100
TZOFFSETTO:+0200
TZNAME:CEST
END:DAYLIGHT
END:VTIMEZONE
END:VCALENDAR