BEGIN:VCALENDAR
VERSION:2.0
PRODID:-//wp-events-plugin.com//7.2.3.1//EN
BEGIN:VEVENT
UID:14@nova-star.de
DTSTART;TZID=Europe/Berlin:20230823T100000
DTEND;TZID=Europe/Berlin:20230823T110000
DTSTAMP:20230816T073530Z
URL:https://nova-star.de/events/hornetsecurity-webinar-fuer-altaro-partner
 /
SUMMARY:Hornetsecurity Webinar für Altaro Partner
DESCRIPTION:Lernen Sie die Cybersecurity-Lösungen von Hornetsecurity kenne
 n\nAufgrund der großen Nachfrage haben wir neben den Altaro Backuplösung
 en nun auch die Cybersecurity-Lösungen von Hornetsecurity in unser Progra
 mm aufgenommen.\n\nHornetsecurity ist ein führender Anbieter für cloudba
 sierte E-Mail-Sicherheit\, Business Continuity\, Compliance\, Backup- und 
 Recovery-Lösungen.\n\nIn diesem Webinar möchten wir Ihnen zeigen\, welch
 e verschiedenen Lösungen Hornetsecurity anbietet und wie Sie als Partner 
 diese Lösungen Ihren Kunden zur Verfügung stellen können.\n\nDas Webina
 r richtet sich an bestehende Altaro Partner.\n\nLink zur Anmeldung:\n\nhtt
 ps://register.gotowebinar.com/register/9189060009248042325??source=NovaSta
 r\n\n&nbsp\;
ATTACH;FMTTYPE=image/jpeg:https://nova-star.de/wp-content/uploads/2023/01/
 hornet_webinar.png
CATEGORIES:Webinar
END:VEVENT
BEGIN:VTIMEZONE
TZID:Europe/Berlin
X-LIC-LOCATION:Europe/Berlin
BEGIN:DAYLIGHT
DTSTART:20230326T030000
TZOFFSETFROM:+0100
TZOFFSETTO:+0200
TZNAME:CEST
END:DAYLIGHT
END:VTIMEZONE
END:VCALENDAR