BEGIN:VCALENDAR
VERSION:2.0
PRODID:-//wp-events-plugin.com//7.2.3.1//EN
BEGIN:VEVENT
UID:16@nova-star.de
DTSTART;TZID=Europe/Berlin:20230822T100000
DTEND;TZID=Europe/Berlin:20230822T110000
DTSTAMP:20230816T074956Z
URL:https://nova-star.de/events/hornetsecurity-security-awareness-service/
SUMMARY:Hornetsecurity Security Awareness Service
DESCRIPTION:Anmeldung unter: https://register.gotowebinar.com/register/1356
 867050949723736?source=NovaStar\n\n&nbsp\;\n\nJede Kette ist nur so stark 
 wie ihr schwächstes Glied und das ist im Kontext Cybersecurity der Mensch
 !\n\nMit dem Security Awareness Service \, wird der Faktor Mensch aktiv 
 in den IT-Sicherheitszyklus eingebunden und als Teil der Cybersecurity-Lö
 sung betrachtet. Die patentierte Spear Phishing Engine simuliert ausgeklü
 gelte Phishing-Angriffe\, so dass Mitarbeiter befähigt werden\, selbst di
 e raffiniertesten Angriffe zu erkennen.\n\nLink zur Anmeldung:\n\nhttps://
 register.gotowebinar.com/register/1356867050949723736?source=NovaStar
ATTACH;FMTTYPE=image/jpeg:https://nova-star.de/wp-content/uploads/2023/01/
 hornet_webinar.png
CATEGORIES:Webinar
END:VEVENT
BEGIN:VTIMEZONE
TZID:Europe/Berlin
X-LIC-LOCATION:Europe/Berlin
BEGIN:DAYLIGHT
DTSTART:20230326T030000
TZOFFSETFROM:+0100
TZOFFSETTO:+0200
TZNAME:CEST
END:DAYLIGHT
END:VTIMEZONE
END:VCALENDAR