BEGIN:VCALENDAR
VERSION:2.0
PRODID:-//wp-events-plugin.com//7.2.3.1//EN
BEGIN:VEVENT
UID:37@nova-star.de
DTSTART;TZID=Europe/Berlin:20250908T080000
DTEND;TZID=Europe/Berlin:20251028T090000
DTSTAMP:20250625T091109Z
URL:https://nova-star.de/events/hornetsecurity-partnerroadshow/
SUMMARY:Hornetsecurity Partnerroadshow
DESCRIPTION:Auch in diesem Jahr zeigt Hornetsecurity an verschiedenen Orten
  die Möglichkeiten seiner Lösungen und geht in den Austausch mit seinen 
 Partnern.\n\nDie Partnerroadshow ist der ideale Zeitpunkt für einen pers
 önlichen Austausch zwischen Partner und Hersteller.\n\nEine genaue Liste 
 der Orte\, Zeiten und Möglichkeiten für die Anmeldung finden Sie direkt 
 unter nachfolgendem Link:\n\nhttps://www.hornetsecurity.com/de/partner-roa
 dshow-dach/\n\n&nbsp\;
ATTACH;FMTTYPE=image/jpeg:https://nova-star.de/wp-content/uploads/2025/06/
 hornet_roadshow.png
END:VEVENT
BEGIN:VTIMEZONE
TZID:Europe/Berlin
X-LIC-LOCATION:Europe/Berlin
BEGIN:DAYLIGHT
DTSTART:20250330T030000
TZOFFSETFROM:+0100
TZOFFSETTO:+0200
TZNAME:CEST
END:DAYLIGHT
BEGIN:STANDARD
DTSTART:20251026T020000
TZOFFSETFROM:+0200
TZOFFSETTO:+0100
TZNAME:CET
END:STANDARD
END:VTIMEZONE
END:VCALENDAR