BEGIN:VCALENDAR
VERSION:2.0
PRODID:-//wp-events-plugin.com//7.2.3.1//EN
BEGIN:VEVENT
UID:8@nova-star.de
DTSTART;TZID=Europe/Berlin:20230525T100000
DTEND;TZID=Europe/Berlin:20230525T110000
DTSTAMP:20230523T093323Z
URL:https://nova-star.de/events/hornetsecurity-einfuehrungswebinar-3/
SUMMARY:Hornetsecurity Einführungswebinar
DESCRIPTION:Anmeldung unter: https://us02web.zoom.us/webinar/register/WN_L_
 EMY5Z0RHWwBg9_ipCusQ\n\n&nbsp\;\nLernen Sie die Cybersecurity-Lösungen vo
 n Hornetsecurity kennen\nAufgrund der großen Nachfrage haben wir neben de
 n Altaro Backuplösungen nun auch die Cybersecurity-Lösungen von Hornetse
 curity in unser Programm aufgenommen.\n\nHornetsecurity ist ein führender
  Anbieter für cloudbasierte E-Mail-Sicherheit\, Business Continuity\, Com
 pliance\, Backup- und Recovery-Lösungen.\n\nIn diesem Webinar möchten wi
 r Ihnen zeigen\, welche verschiedenen Lösungen Hornetsecurity anbietet un
 d wie Sie als Partner diese Lösungen Ihren Kunden zur Verfügung stellen 
 können.\n\nIn einer Live Demo können Sie dabei selbst sehen\, dass Sie d
 ie komplette Kundenverwaltung innerhalb einer browserbasierten Oberfläche
  durchführen können.\n\nDas Webinar richtet sich an interessierte System
 häuser\, die ihren Kunden Cybersecurity-Lösungen anbieten möchten.\n\nL
 ink zur Anmeldung:\n\nhttps://nova-star.de/hornetsecurity-infowebinar/
ATTACH;FMTTYPE=image/jpeg:https://nova-star.de/wp-content/uploads/2023/01/
 hornet_webinar.png
CATEGORIES:Webinar
END:VEVENT
BEGIN:VTIMEZONE
TZID:Europe/Berlin
X-LIC-LOCATION:Europe/Berlin
BEGIN:DAYLIGHT
DTSTART:20230326T030000
TZOFFSETFROM:+0100
TZOFFSETTO:+0200
TZNAME:CEST
END:DAYLIGHT
END:VTIMEZONE
END:VCALENDAR