BEGIN:VCALENDAR
VERSION:2.0
PRODID:-//wp-events-plugin.com//7.2.3.1//EN
BEGIN:VEVENT
UID:6@nova-star.de
DTSTART;TZID=Europe/Berlin:20230316T100000
DTEND;TZID=Europe/Berlin:20230316T110000
DTSTAMP:20230524T121303Z
URL:https://nova-star.de/events/hornetsecurity-einfuehrungswebinar-2/
SUMMARY:Hornetsecurity Einführungswebinar
DESCRIPTION:Anmeldung unter:  https://us02web.zoom.us/webinar/register/WN_
 L_EMY5Z0RHWwBg9_ipCusQ\n\n&nbsp\;\nLernen Sie die Cybersecurity-Lösungen 
 von Hornetsecurity kennen\nAufgrund der großen Nachfrage haben wir neben 
 den Altaro Backuplösungen nun auch die Cybersecurity-Lösungen von Hornet
 security in unser Programm aufgenommen.\n\nHornetsecurity ist ein führend
 er Anbieter für cloudbasierte E-Mail-Sicherheit\, Business Continuity\, C
 ompliance\, Backup- und Recovery-Lösungen.\n\nIn diesem Webinar möchten 
 wir Ihnen zeigen\, welche verschiedenen Lösungen Hornetsecurity anbietet 
 und wie Sie als Partner diese Lösungen Ihren Kunden zur Verfügung stelle
 n können.\n\nIn einer Live Demo können Sie dabei selbst sehen\, dass Sie
  die komplette Kundenverwaltung innerhalb einer browserbasierten Oberfläc
 he durchführen können.\n\nDas Webinar richtet sich an interessierte Syst
 emhäuser\, die ihren Kunden Cybersecurity-Lösungen anbieten möchten.\n\
 nLink zur Anmeldung:\n\nhttps://us02web.zoom.us/webinar/register/WN_L_EMY5
 Z0RHWwBg9_ipCusQ\n\n&nbsp\;
ATTACH;FMTTYPE=image/jpeg:https://nova-star.de/wp-content/uploads/2023/01/
 hornet_webinar.png
CATEGORIES:Webinar
END:VEVENT
BEGIN:VTIMEZONE
TZID:Europe/Berlin
X-LIC-LOCATION:Europe/Berlin
BEGIN:STANDARD
DTSTART:20221030T020000
TZOFFSETFROM:+0200
TZOFFSETTO:+0100
TZNAME:CET
END:STANDARD
END:VTIMEZONE
END:VCALENDAR