BEGIN:VCALENDAR
VERSION:2.0
PRODID:-//wp-events-plugin.com//7.2.3.1//EN
BEGIN:VEVENT
UID:10@nova-star.de
DTSTART;TZID=Europe/Berlin:20230622T100000
DTEND;TZID=Europe/Berlin:20230622T110000
DTSTAMP:20230612T110723Z
URL:https://nova-star.de/events/hornetsecurity-365-permission-manager/
SUMMARY:Hornetsecurity 365 Permission Manager
DESCRIPTION:Anmeldung unter: https://us02web.zoom.us/webinar/register/67168
 65679726/WN_vuuSdQnmTPC9hMl3Xm9ahw\n\n&nbsp\;\n\nWOZU BRAUCHEN SIE 365 PER
 MISSION MANAGER?\n\nMicrosoft 365 bietet viele Vorteile\, wie z. B. eine h
 öhere Produktivität und Zusammenarbeit durch Office 365\, Teams und Shar
 ePoint. Es ermöglicht die Zusammenarbeit in Echtzeit und einfaches Remote
 -Arbeiten mit Zugriff auf Geschäftsdaten von überall. Die Arbeit mit den
  Tools und der Aufbau einer Dateninfrastruktur ist einfach\, aber das Bere
 chtigungsmanagement kann komplex und mit Risiken behaftet sein. Hier kommt
  der 365 Permission Manager ins Spiel!\n\nIn unserem Webinar stellen wir d
 en zeigen wir den Hornetsecurity Permission Manager vor und zeigen ihn auc
 h in einer Live Demo. So können Sie selbst erkennen\, ob das Produkt die 
 passende Anwendung für Ihre Kunden ist.\n\nLink zur Anmeldung:\n\nhttps:/
 /us02web.zoom.us/webinar/register/6716865679726/WN_vuuSdQnmTPC9hMl3Xm9ahw
ATTACH;FMTTYPE=image/jpeg:https://nova-star.de/wp-content/uploads/2023/01/
 hornet_webinar.png
CATEGORIES:Webinar
END:VEVENT
BEGIN:VTIMEZONE
TZID:Europe/Berlin
X-LIC-LOCATION:Europe/Berlin
BEGIN:DAYLIGHT
DTSTART:20230326T030000
TZOFFSETFROM:+0100
TZOFFSETTO:+0200
TZNAME:CEST
END:DAYLIGHT
END:VTIMEZONE
END:VCALENDAR