BEGIN:VCALENDAR
VERSION:2.0
PRODID:-//wp-events-plugin.com//7.2.3.1//EN
BEGIN:VEVENT
UID:15@nova-star.de
DTSTART;TZID=Europe/Berlin:20230823T100000
DTEND;TZID=Europe/Berlin:20230823T110000
DTSTAMP:20230816T074542Z
URL:https://nova-star.de/events/hornetsecurity-365-permission-manager-2/
SUMMARY:Hornetsecurity 365 Permission Manager
DESCRIPTION:Anmeldung unter: https://register.gotowebinar.com/register/2109
 268355395127640?source=NovaStar\n\n&nbsp\;\n\nWOZU BRAUCHEN SIE 365 PERMIS
 SION MANAGER?\n\nMicrosoft 365 bietet viele Vorteile\, wie z. B. eine höh
 ere Produktivität und Zusammenarbeit durch Office 365\, Teams und SharePo
 int. Es ermöglicht die Zusammenarbeit in Echtzeit und einfaches Remote-Ar
 beiten mit Zugriff auf Geschäftsdaten von überall. Die Arbeit mit den To
 ols und der Aufbau einer Dateninfrastruktur ist einfach\, aber das Berecht
 igungsmanagement kann komplex und mit Risiken behaftet sein. Hier kommt de
 r 365 Permission Manager ins Spiel!\n\nIn diesem Webinar stellt Hornetsecu
 rity Ihnen den Hornetsecurity Permission Manager vor und zeigt ihn auch in
  einer Live Demo. So können Sie selbst erkennen\, ob das Produkt die pass
 ende Anwendung für Ihre Kunden ist.\n\nLink zur Anmeldung:\n\nhttps://reg
 ister.gotowebinar.com/register/2109268355395127640?source=NovaStar
ATTACH;FMTTYPE=image/jpeg:https://nova-star.de/wp-content/uploads/2023/01/
 hornet_webinar.png
CATEGORIES:Webinar
END:VEVENT
BEGIN:VTIMEZONE
TZID:Europe/Berlin
X-LIC-LOCATION:Europe/Berlin
BEGIN:DAYLIGHT
DTSTART:20230326T030000
TZOFFSETFROM:+0100
TZOFFSETTO:+0200
TZNAME:CEST
END:DAYLIGHT
END:VTIMEZONE
END:VCALENDAR