BEGIN:VCALENDAR
VERSION:2.0
PRODID:-//wp-events-plugin.com//7.2.3.1//EN
BEGIN:VEVENT
UID:32@nova-star.de
DTSTART;TZID=Europe/Berlin:20241010T100000
DTEND;TZID=Europe/Berlin:20241010T123000
DTSTAMP:20240814T085719Z
URL:https://nova-star.de/events/hacker-vs-kritis-cybersecurity-im-energie-
 und-wassersektor/
SUMMARY:Hacker vs. KRITIS: Cybersecurity im Energie- und Wassersektor
DESCRIPTION:Hacker vs. KRITIS\nCybersecurity im Energie- und Wassersektor\n
 \n10.10.2024\, 10:00 - 12:30 Uhr\n\nEine zuverlässige Energie- und Wasser
 versorgung ist essenziell für ein funktionierendes Gemeinwesen. Dies gilt
  für nahezu alle Lebensbereiche – von der Nahrungsmittelproduktion übe
 r den Transport bis zur Gesundheitsversorgung. Ausfälle können erheblich
 e Störungen und Schäden verursachen. Daher ist die Sicherstellung der Ve
 rsorgung mit großer Verantwortung verbunden.\n\nHacker haben es vor allem
  auf Unternehmen der kritischen Infrastruktur wie Stadtwerke abgesehen\, d
 a sie insbesondere bei Ransomware-Angriffen hohe Lösegeldsummen erwarten.
  Die Folgen eines Hackerangriffs auf Stadtwerke und Energie- und Wasserver
 sorgungsunternehmen können weitreichend und gravierend sein.\nDie folgend
 e Agenda erwartet deine Kunden:\nDr. Yvonne Bernard\, CTO bei Hornetsecuri
 ty\nEinleitende Worte zu aktuellen Trends und Herausforderungen in der Cyb
 ersicherheit\n\nKarsten U. Bartels LL.M.\, Rechtsanwalt für IT-Sicherheit
 srecht bei HK2 Rechtsanwälte\, stellv. Vorstandvorsitzender Bundesverband
  IT-Sicherheit (TeleTrusT)\nThema: Betreiber kritischer Anlagen und das NI
 S 2 Umsetzungsgesetz: Pflichten und Spielräume\n\nPatrick Isele\, Head of
  Key Account Management\nThema: E-Mail-Security – Das müssen Sie als KR
 ITIS-Betreiber beachten\n\nJean Greskämper\, Key Account Manager\nThema: 
 Schutz durch Sensibilisierung der Mitarbeiter – Security Awareness Servi
 ce\n\n&nbsp\;\n\nAnmeldung:\n\nhttps://www.hornetsecurity.com/de/webinar-h
 acker-vs-kritis/?partner=NovaStar
ATTACH;FMTTYPE=image/jpeg:https://nova-star.de/wp-content/uploads/2024/08/
 SAS_Webinar_Hacker_vs_KRITIS_1.jpg
END:VEVENT
BEGIN:VTIMEZONE
TZID:Europe/Berlin
X-LIC-LOCATION:Europe/Berlin
BEGIN:DAYLIGHT
DTSTART:20240331T030000
TZOFFSETFROM:+0100
TZOFFSETTO:+0200
TZNAME:CEST
END:DAYLIGHT
END:VTIMEZONE
END:VCALENDAR