BEGIN:VCALENDAR
VERSION:2.0
PRODID:-//wp-events-plugin.com//7.2.3.1//EN
BEGIN:VEVENT
UID:29@nova-star.de
DTSTART;TZID=Europe/Berlin:20240626T100000
DTEND;TZID=Europe/Berlin:20240626T123000
DTSTAMP:20240612T074132Z
URL:https://nova-star.de/events/hacker-vs-healthcare-cybersecurity-im-gesu
 ndheitswesen/
SUMMARY:HACKER VS. HEALTHCARE - CYBERSECURITY IM GESUNDHEITSWESEN
DESCRIPTION:Krankenhäuser\, Pflege- und soziale Einrichtungen sind immer w
 ieder Ziel von Cyberangriffen\, denn auch Hacker wissen um die Bedeutung d
 es Gesundheits- und Sozialwesens.\n\n\nFür die Hacker kann ein Angriff au
 f diese Einrichtungen ein lukratives Geschäft sein\, denn gerade hier ist
  es wichtig\, schnell wieder arbeitsfähig zu sein und die Versorgung der 
 Patienten sicherzustellen.\n\n\nAufgrund der Wichtigkeit dieses Themas org
 anisiert Hornetsecurity im Juni zum ersten Mal das Online-Event "HACKER VS
 . HEALTHCARE"\, zu dem wir Sie herzlich einladen:\n\nAnmeldung:\nhttps://r
 egister.gotowebinar.com/register/6815849930122179933?source=NOVASTAR
ATTACH;FMTTYPE=image/jpeg:https://nova-star.de/wp-content/uploads/2024/06/
 12-06-_2024_09-39-30.png
END:VEVENT
BEGIN:VTIMEZONE
TZID:Europe/Berlin
X-LIC-LOCATION:Europe/Berlin
BEGIN:DAYLIGHT
DTSTART:20240331T030000
TZOFFSETFROM:+0100
TZOFFSETTO:+0200
TZNAME:CEST
END:DAYLIGHT
END:VTIMEZONE
END:VCALENDAR