BEGIN:VCALENDAR
VERSION:2.0
PRODID:-//wp-events-plugin.com//7.2.3.1//EN
BEGIN:VEVENT
UID:35@nova-star.de
DTSTART;TZID=Europe/Berlin:20250605T100000
DTEND;TZID=Europe/Berlin:20250605T110000
DTSTAMP:20250520T062234Z
URL:https://nova-star.de/events/gefahren-im-darknet-so-schuetzen-sie-sich-
 vor-illegalen-machenschaften-cyberrisiken/
SUMMARY:Gefahren im Darknet – So schützen Sie sich vor illegalen Machens
 chaften & Cyberrisiken
DESCRIPTION:Anmeldung:\n\nhttps://us02web.zoom.us/webinar/register/55174703
 76081/WN_h8crQHIHQWmYY3IqlJt3Gg\n\n&nbsp\;\nMachen Sie mit bei unserem Web
 inar\n\n\n\n\nAm 5.6.2025 bieten wir in Zusammenarbeit mit Hornetsecurity 
 ein besonderes Webinar für Sie an.\n\nTobias Schrödel\, bekannt aus Funk
  und Fernsehen nimmt Sie mit ins Darknet. Schauen Sie mit ihm echten Cyber
 kriminellen über die Schulter und erleben Sie hautnah\, welchen Gefahren 
 Sie und Ihre Kunden ausgesetzt sind.\n\nHerr Schrödel hat die Fähigkeit\
 , komplexe IT-Themen witzig und kompetent zu präsentieren und ist daher e
 in ausgesprochen gefragter Redner in diesem Bereich.\n\n\n\nÜber etwa 45 
 Minuten zeigt er Ihnen reale Situationen des Darknet und welche Gefahren h
 ier lauern.\n\nDanach bietet Hornetsecurity eine kurze Übersicht\, wie Si
 e Ihre Kunden vor diesen Gefahren schützen können.\n\n&nbsp\;\n\nLassen 
 Sie sich dieses besondere Ereignis nicht entgehen und melden Sie sich sofo
 rt an. Das Webinar richtet sich hierbei an MSPs und Systemhäuser\, die Ih
 re Kunden schützen möchten.\n\n&nbsp\;\nFür alle Interessierten vorab s
 chon mal ein kleiner Vorgeschmack\nhttps://nova-star.de/wp-content/uploads
 /2025/05/Teasermini.mp4\n\n&nbsp\;\n\nAnmeldung unter:\n\nhttps://us02web.
 zoom.us/webinar/register/5517470376081/WN_h8crQHIHQWmYY3IqlJt3Gg\n\n&nbsp\
 ;\n\nUnter allen Webinarteilnehmern werden 5 von Tobias Schrödel signiert
 e Buchexemplare verlost. Es lohnt sich also auf jeden Fall\, dabei zu sein
 .\n\n&nbsp\;\n\n(*Abbildung Tobias Schrödel: Sina Guntern)
ATTACH;FMTTYPE=image/jpeg:https://nova-star.de/wp-content/uploads/2025/05/
 webseite2.png
END:VEVENT
BEGIN:VTIMEZONE
TZID:Europe/Berlin
X-LIC-LOCATION:Europe/Berlin
BEGIN:DAYLIGHT
DTSTART:20250330T030000
TZOFFSETFROM:+0100
TZOFFSETTO:+0200
TZNAME:CEST
END:DAYLIGHT
END:VTIMEZONE
END:VCALENDAR