BEGIN:VCALENDAR
VERSION:2.0
PRODID:-//wp-events-plugin.com//7.2.3.1//EN
BEGIN:VEVENT
UID:18@nova-star.de
DTSTART;TZID=Europe/Berlin:20230921T100000
DTEND;TZID=Europe/Berlin:20230921T110000
DTSTAMP:20230905T072440Z
URL:https://nova-star.de/events/axigen-business-messaging/
SUMMARY:Axigen Business Messaging
DESCRIPTION:Email ist der zentrale Baustein in der Zusammenarbeit von Mitar
 beitern und Unternehmen. Chat und Videokonferenzen bieten zusätzliche Mö
 glichkeiten in der Kommunikation\, der meistgenutzte Weg ist aber immer no
 ch die Email.\n\nDaher ist auch das Mailsystem eines der zentralen Bestand
 teile in der Kommunikation\, sowohl innerhalb als auch ausserhalb des Unte
 rnehmens.\n\nBedeutende Aspekte eines Mailsystems sind Zuverlässigkeit\, 
 Sicherheit\, Flexibilität\, Anpassungsfähigkeit und Kontinuität.\n\nAxi
 gen hat bei der Entwicklung seines Mailsystems diese Aspekte zu jeder Zeit
  berücksichtigt\, so dass ein Mailserver entstanden ist\, mit dem Sie sow
 ohl heute als auch in Zukunft Ihre Kommunikation betreiben können. Die Zu
 sammenarbeit der einzelnen Mitarbeiter steht dabei im Mittelpunkt.\n\nAxig
 en bietet sein Produkt sowohl als onPremise Lösung für Business Kunden a
 n\, die ihren Mailserver selbst betreiben möchten als auch als Lösung f
 ür Service Provider. Damit können Sie als Service Provider Ihren Kunden 
 professionelle Maildienste anbieten.\n\nAxigen hat sehr hohen Wert auf ein
 e einfache Installation\, Konfiguration und Verwaltung gelegt\, so dass di
 eser Mailserver für die unterschiedlichsten Kundengruppen passend ist.\n\
 nIn einem Webinar möchten wir Ihnen zeigen\, welche Möglichkeiten Axigen
  bietet\, wie Sie das Produkt installieren und verwalten und welche versch
 iedenen Lizenzierungsmöglichkeiten bestehen.\n\nAnmeldung:\n\nhttps://us0
 2web.zoom.us/webinar/register/WN_b3bxs0EAT4y_EOUEVtxe2Q
ATTACH;FMTTYPE=image/jpeg:https://nova-star.de/wp-content/uploads/2023/05/
 classroom.jpg
CATEGORIES:Webinar
END:VEVENT
BEGIN:VTIMEZONE
TZID:Europe/Berlin
X-LIC-LOCATION:Europe/Berlin
BEGIN:DAYLIGHT
DTSTART:20230326T030000
TZOFFSETFROM:+0100
TZOFFSETTO:+0200
TZNAME:CEST
END:DAYLIGHT
END:VTIMEZONE
END:VCALENDAR