BEGIN:VCALENDAR
VERSION:2.0
PRODID:-//wp-events-plugin.com//7.2.3.1//EN
BEGIN:VEVENT
UID:25@nova-star.de
DTSTART;TZID=Europe/Berlin:20240522T100000
DTEND;TZID=Europe/Berlin:20240522T110000
DTSTAMP:20240424T090654Z
URL:https://nova-star.de/events/365-permission-manager-produktvorstellung/
SUMMARY:365 Permission Manager - Produktvorstellung
DESCRIPTION:Hornetsecurity Webinar:\nDateifreigaben über Teams\, SharePoin
 t und OneDrive steigen rasant an. Das macht es für CISOs unmöglich\, die
  geteilten Dateien und Freigaben im Auge zu behalten – ein großes Risik
 o für Datenlecks. Erfahren Sie im Webinar\, wie Sie mit 365 Permission Ma
 nager die volle Kontrolle zurückgewinnen!\n\nAnmeldung:\nhttps://www.horn
 etsecurity.com/de/webinar-365-permission-manager-produktvorstellung-sessio
 n2/\n
ATTACH;FMTTYPE=image/jpeg:https://nova-star.de/wp-content/uploads/2024/04/
 365-Permission-Manager-Produktvorstellung-1080x1080-1.jpg
END:VEVENT
BEGIN:VTIMEZONE
TZID:Europe/Berlin
X-LIC-LOCATION:Europe/Berlin
BEGIN:DAYLIGHT
DTSTART:20240331T030000
TZOFFSETFROM:+0100
TZOFFSETTO:+0200
TZNAME:CEST
END:DAYLIGHT
END:VTIMEZONE
END:VCALENDAR